BEGIN:VCALENDAR
VERSION:2.0
PRODID:-//eventon.com NONSGML v1.0//EN
CALSCALE:GREGORIAN
METHOD:PUBLISH
BEGIN:VEVENT
UID:69e885c172aa7
DTSTAMP:20260422T082433Z
DTSTART:20231024
DTEND:20231025
LOCATION:
SUMMARY:October 24\,  2023 Special Town Council Meeting
DESCRIPTION:Meeting Agenda Download PDF\nhttps://goldenbeach.us/gevents/oct
 ober-24-2023-special-town-council-meeting/
URL:https://goldenbeach.us/gevents/october-24-2023-special-town-council-meeting/
END:VEVENT
END:VCALENDAR