BEGIN:VCALENDAR
VERSION:2.0
PRODID:-//eventon.com NONSGML v1.0//EN
CALSCALE:GREGORIAN
METHOD:PUBLISH
BEGIN:VEVENT
UID:69e885975dd08
DTSTAMP:20260422T082351Z
DTSTART:20210615
DTEND:20210616
LOCATION:
SUMMARY:June 15\,  2021 Regular Town Council Meeting
DESCRIPTION:\nhttps://goldenbeach.us/gevents/june-15-2021-regular-town-coun
 cil-meeting/
URL:https://goldenbeach.us/gevents/june-15-2021-regular-town-council-meeting/
END:VEVENT
END:VCALENDAR