BEGIN:VCALENDAR
VERSION:2.0
PRODID:-//eventon.com NONSGML v1.0//EN
CALSCALE:GREGORIAN
METHOD:PUBLISH
BEGIN:VEVENT
UID:69e9f3cca22e7
DTSTAMP:20260423T102620Z
DTSTART:20190917
DTEND:20190918
LOCATION:
SUMMARY:September 17\,  2019 First Budget Hearing & Regular Town Council Meeting
DESCRIPTION:\nhttps://goldenbeach.us/gevents/september-17-2019-first-budget
 -hearing-regular-town-council-meeting/
URL:https://goldenbeach.us/gevents/september-17-2019-first-budget-hearing-regular-town-council-meeting/
END:VEVENT
END:VCALENDAR